BEGIN:VCALENDAR
VERSION:2.0
PRODID:-//Art Breakers - ECPv5.12.2//NONSGML v1.0//EN
CALSCALE:GREGORIAN
METHOD:PUBLISH
X-WR-CALNAME:Art Breakers
X-ORIGINAL-URL:https://www.art-breakers.de
X-WR-CALDESC:Veranstaltungen für Art Breakers
BEGIN:VTIMEZONE
TZID:UTC
BEGIN:STANDARD
TZOFFSETFROM:+0000
TZOFFSETTO:+0000
TZNAME:UTC
DTSTART:20260101T000000
END:STANDARD
END:VTIMEZONE
BEGIN:VEVENT
DTSTART;TZID=UTC:20260419T140000
DTEND;TZID=UTC:20260419T180000
DTSTAMP:20260422T142544
CREATED:20260221T165220Z
LAST-MODIFIED:20260419T133014Z
UID:4520-1776607200-1776621600@www.art-breakers.de
SUMMARY:Hamburger Kunsthalle & Galerie Commeter
DESCRIPTION:Direkt zur Anmeldung \nEin Kunstnachmittag in Hamburg: „Edvard Munch und Maria Lassnig  – Malerei als Lebensgefühl“ in der Hamburger Kunsthalle und Exklusivöffnung der Galerie Commeter  \nFreut Euch auf eine ganz besondere Veranstaltung im schönen Hamburg! \nFür diese ART BREAK besuchen wir zuerst die Galerie Commeter\, deren Inhaberin extra für uns an einem Sonntag die Türen öffnet. Und danach geht es in die Ausstellung „Maria Lassnig und Edvard Munch – Malfluss = Lebensfluss“ in der Hamburger Kunsthalle – eine eindrucksvolle Gegenüberstellung zweier außergewöhnlicher Positionen der Moderne. \nWir starten mit dem Besuch der traditionsreichen Galerie Commeter (1821 gegründet) – einer der ältesten Privatgalerien Deutschlands. 1930 wurden hier auch Werke von Edvard Munch ausgestellt – ein spannendes historisches Detail\, das unseren Kunstnachmittag atmosphärisch eröffnet. Carola Persiehl\, die das Haus in fünfter Generation führt\, gibt uns persönliche Einblicke in die Geschichte der Galerie und ihre heutige Programmatik. Und zeigt uns auch die aktuelle Ausstellung von Daniel Behrendt (*1980 in Stendal) – er studierte nach seiner Ausbildung zum Zimmermann Freie Kunst in Ottersberg und anschließend an der Hochschule für Künste in Bremen bei Prof. Karin Kneffel mit Abschluss 2009 als Meisterschüler. Seine thematischen Schwerpunkte findet er in der Illustration Städtebaulicher Landschaften. Er sammelt Eindrücke und fotografische Momentaufnahmen auf seinen Wegen durch urbane Milieus. Er schreibt dazu: „Erstaunlich in welchen Hinterecken man bewohnte\, zumeist brachial und erbarmungslos hingesetzte Betonkuben entdeckt. Wer lebt an einem solchen Ort\, wie sieht dieses Leben aus und welche Parallelen lassen sich dort für die Allgemeinheit ziehen?“ \nNach einer Stärkung mit Kaffee und Keksen machen wir einen Spaziergang in die Hamburger Kunsthalle. \nEdvard Munch kennt Ihr natürlich durch den „Schrei“ und vielleicht ward Ihr ja auch bei unserer ART BREAK in Oslo dabei oder im Museum Barberini in Potsdam als es die große Ausstellung dort gab. Doch sein Werk ist weit mehr als dieses ikonische Bild. Munch machte innere Zustände sichtbar – Angst\, Liebe\, Sehnsucht\, Einsamkeit. Seine Malerei ist unmittelbar\, emotional\, oft radikal ehrlich. Farbe wird bei ihm zum Ausdruck von Leben selbst. \nNeben ihm steht Maria Lassnig\, eine der bedeutendsten Künstlerinnen des 20. Jahrhunderts. Mit ihrem Konzept des „Körperbewusstseins“ malte sie nicht\, wie sie aussah – sondern wie sie sich fühlte. Ihre Werke sind intensiv\, manchmal schonungslos\, manchmal mit feinem Humor\, immer persönlich. \nDie Ausstellung bringt beide Positionen in einen spannenden Dialog. Überraschende Parallelen werden sichtbar: das Interesse am Inneren\, am Empfinden\, an der Frage\, wie sich Leben in Malerei übersetzen lässt. „Flow of Paint = Flow of Life“ – Farbe als Lebensfluss. \nFreut Euch auf eine exklusive Führung durch die Ausstellung. Gemeinsam tauchen wir ein\, stellen Fragen\, entdecken Details und lassen uns inspirieren. \nIm Anschluss gibt es wie immer Gelegenheit zum Austausch\, diesmal im Restaurant „Cube“ (Selbstzahler) mit Blick über die Alster. \nAblauf \n14:00 Uhr\nTreffen vor der Galerie Commeter: Bergstraße 11\, 20095 Hamburg\nBegegnung mit der Inhaberin\, Einführung in die Ausstellung von Daniel Behrend und Gespräche bei Kaffee & Keksen \nAnschließend gemeinsamer Spaziergang zur Hamburger Kunsthalle \n16:00 Uhr\nExklusive Führung (60 Minuten) durch die Ausstellung in der Hamburger Kunsthalle\n„Maria Lassnig und Edvard Munch – Malfluss = Lebensfluss“ anschließend Zeit für eigene Anschauungen \n18:00 Uhr\nOptionales Get Together zum Austausch im Restaurant Cube (Selbstzahler) \nIm Preis inbegriffen:\n\nBesuch der Galerie Commerter (Sonderöffnung) incl. Kaffee & Keksen\nKosten für Eintritt und Führung in der Hamburger Kunsthalle\nKuration\, Organisation und Betreuung durch ART BREAKERS\n\nBuchung\nBitte zur Anmeldung einfach eine Email an kaul@art-breakers.de schicken – wir senden Euch dann eine Rechnung zu. \n\nFotos:\nAndrea Kaul\, Hamburger Kunsthalle\, Galerie Commeter
URL:https://www.art-breakers.de/event/hamburg/
CATEGORIES:HAMBURG ART BREAK & COFFEE,Vergangene
ATTACH;FMTTYPE=image/png:https://www.art-breakers.de/wp-content/uploads/2026/02/Maria-Lassnig-1919–2014-Ehepaar-2001-Staedtische-Galerie-im-Lenbachhaus-und-Kunstbau-Muenchen-Sammlung-KiCo-©-Maria-Lassnig-Stiftung-_-VG-Bild-Kunst-Bonn-2025.png
END:VEVENT
END:VCALENDAR